BEGIN:VCALENDAR
VERSION:2.0
CALSCALE:GREGORIAN
PRODID:-//Diputació de Barcelona//DibaCMS//EN
BEGIN:VEVENT
UID:890
DTSTAMP:20260425T144518
DTSTART:20230105T181500
DTEND:20230105T201500
SUMMARY:Cavalcada de Reis!
LOCATION:Carrer de l'Església, 1 08588 Sora
METHOD:PUBLISH
X-WR-CALNAME:sora@sora.cat
X-WR-TIMEZONE:Europe/Madrid
DESCRIPTION:
URI:https://www.sora.cat/actualitat/agenda/890-cavalcada-de-reis.html
CLASS:PUBLIC
END:VEVENT
END:VCALENDAR
