BEGIN:VCALENDAR
VERSION:2.0
CALSCALE:GREGORIAN
PRODID:-//Diputació de Barcelona//DibaCMS//EN
BEGIN:VEVENT
UID:888
DTSTAMP:20260425T161926
DTSTART:20221230T173000
DTEND:20221230T183000
SUMMARY:Taller de fanalets a càrrec de Cindy Locher
LOCATION:Barri Cussons 08588 Sora
METHOD:PUBLISH
X-WR-CALNAME:sora@sora.cat
X-WR-TIMEZONE:Europe/Madrid
DESCRIPTION:
URI:https://www.sora.cat/actualitat/agenda/taller-de-fanalets-a-carrec-de-cindy-locher.html
CLASS:PUBLIC
END:VEVENT
END:VCALENDAR
