BEGIN:VCALENDAR
VERSION:2.0
CALSCALE:GREGORIAN
PRODID:-//Diputació de Barcelona//DibaCMS//EN
BEGIN:VEVENT
UID:886
DTSTAMP:20260425T150645
DTSTART:20221224T180000
DTEND:20221224T190000
SUMMARY:Cagada del Tió i sorteig de paneres
LOCATION:Carrer de l'Església, 1 08588 Sora
METHOD:PUBLISH
X-WR-CALNAME:sora@sora.cat
X-WR-TIMEZONE:Europe/Madrid
DESCRIPTION:
URI:https://www.sora.cat/actualitat/agenda/cagada-del-tio-i-sorteig-de-paneres.html
CLASS:PUBLIC
END:VEVENT
END:VCALENDAR
