BEGIN:VCALENDAR
VERSION:2.0
CALSCALE:GREGORIAN
PRODID:-//Diputació de Barcelona//DibaCMS//EN
BEGIN:VEVENT
UID:862
DTSTAMP:20260425T164718
DTSTART:20221101T163000
DTEND:20221101T180000
SUMMARY:Missa de Tots Sants
LOCATION:08588 Sora
METHOD:PUBLISH
X-WR-CALNAME:sora@sora.cat
X-WR-TIMEZONE:Europe/Madrid
DESCRIPTION:
URI:https://www.sora.cat/actualitat/agenda/862-missa-de-tots-sants.html
CLASS:PUBLIC
END:VEVENT
END:VCALENDAR
