BEGIN:VCALENDAR
VERSION:2.0
CALSCALE:GREGORIAN
PRODID:-//Diputació de Barcelona//DibaCMS//EN
BEGIN:VEVENT
UID:848
DTSTAMP:20260425T161620
DTSTART:20221106T100000
DTEND:20221106T130000
SUMMARY:El Castell de Duocastella
LOCATION:Plaça Can Coromines, 14 08588 Sora
METHOD:PUBLISH
X-WR-CALNAME:sora@sora.cat
X-WR-TIMEZONE:Europe/Madrid
DESCRIPTION:El Castell de Duocastella


10h - Amb l'historiador Albert Pratdesaba farem una visita guiada al Castell de Duocastella de Sora per conèixer com va néixer, quines van ser les seves funcions i perquè va ser abundant. De tornada passarem per Rocafiguera i en coneixerem la seva història.


Lloc: Sora, aparcament de l'entrada del poble

Activitat gratuïta, no cal inscripció.

Organitza: ADET, Museu de la Torneria i Parc del Castell de Monesquiu.

Més informació a p.montesquiu.bisaura@diba.cat o al telèfon 663 70 82 10

URI:https://www.sora.cat/actualitat/agenda/el-castell-de-duocastella.html
CLASS:PUBLIC
END:VEVENT
END:VCALENDAR
