BEGIN:VCALENDAR
VERSION:2.0
CALSCALE:GREGORIAN
PRODID:-//Diputació de Barcelona//DibaCMS//EN
BEGIN:VEVENT
UID:837
DTSTAMP:20260425T190954
DTSTART:20220919T190000
DTEND:20220919T200000
SUMMARY:Ple ordinari 19/09/2022
LOCATION:Carrer de l'Església, 1 08588 Sora
METHOD:PUBLISH
X-WR-CALNAME:sora@sora.cat
X-WR-TIMEZONE:Europe/Madrid
DESCRIPTION:S'adjunta la convocatòria de ple ordinari pel dia 19 de setembre de 2022 a les 20h. del vespre.

URI:https://www.sora.cat/actualitat/agenda/ple-ordinari-19092022.html
CLASS:PUBLIC
END:VEVENT
END:VCALENDAR
