BEGIN:VCALENDAR
VERSION:2.0
CALSCALE:GREGORIAN
PRODID:-//Diputació de Barcelona//DibaCMS//EN
BEGIN:VEVENT
UID:833
DTSTAMP:20260425T191444
DTSTART:20220918T120000
DTEND:20220918T140000
SUMMARY:Ferran Palau i Itzipa
LOCATION:
METHOD:PUBLISH
X-WR-CALNAME:sora@sora.cat
X-WR-TIMEZONE:Europe/Madrid
DESCRIPTION:Ferran Palau ens presenta JOIA, un projecte nascut en plena pandèmia en què ens mostra el seu interior més íntim i acústic. El precedirà el jove conjunt Itzipa, un projecte musical emergent que es mou per l'arrel tradicional agafant sons de la Mediterrània i d'arreu del món.

 

Lloc: Jardins davant la Cabanya del Castell de Montesquiu

 

Més informació: www.territori.gesbisaura.cat, al correu electrònic p.montesquiu.bisaura@diba.cat o al telèfon 663 70 82 10.

URI:https://www.sora.cat/actualitat/agenda/ferran-palau-i-itzipa.html
CLASS:PUBLIC
END:VEVENT
END:VCALENDAR
