BEGIN:VCALENDAR
VERSION:2.0
CALSCALE:GREGORIAN
PRODID:-//Diputació de Barcelona//DibaCMS//EN
BEGIN:VEVENT
UID:1418
DTSTAMP:20260422T100828
DTSTART:20260516T080000
DTEND:20260516T140000
SUMMARY:VI Trail de Sora
LOCATION:Zona poliesportiva 08588 Sora
METHOD:PUBLISH
X-WR-CALNAME:sora@sora.cat
X-WR-TIMEZONE:Europe/Madrid
DESCRIPTION:📢 Ja estan obertes les inscripcions al VI TRAIL DE SORA 

➡️ Data límit: 13/05/2026

📌 Enllaç inscripcions: https://www.rockthesport.com/ca/esdeveniment/trail-de-sora-2026

ℹ️ Tota la informació a la web https://soratrail.cat/

URI:https://www.sora.cat/actualitat/agenda/1418-vi-trail-de-sora.html
CLASS:PUBLIC
END:VEVENT
END:VCALENDAR
