BEGIN:VCALENDAR
VERSION:2.0
CALSCALE:GREGORIAN
PRODID:-//Diputació de Barcelona//DibaCMS//EN
BEGIN:VEVENT
UID:1398
DTSTAMP:20260421T162005
DTSTART:20260421T170000
DTEND:20260421T180000
SUMMARY:Bibliobús Serra de Bellmunt
LOCATION:Barri Cussons 08588 Sora
METHOD:PUBLISH
X-WR-CALNAME:sora@sora.cat
X-WR-TIMEZONE:Europe/Madrid
DESCRIPTION:
📌 El dijous 21 d'abril torna el Bibliobús Serra de Bellmunt al nucli de Cussons de les 17h a les 18h de la tarda.

💥 Vine a descobrir novetats, retornar llibres o emportar-te’n de nous!


URI:https://www.sora.cat/actualitat/agenda/1398-bibliobus-serra-de-bellmunt.html
CLASS:PUBLIC
END:VEVENT
END:VCALENDAR
