BEGIN:VCALENDAR
VERSION:2.0
CALSCALE:GREGORIAN
PRODID:-//Diputació de Barcelona//DibaCMS//EN
BEGIN:VEVENT
UID:1386
DTSTAMP:20260426T045851
DTSTART:20260409T170000
DTEND:20260409T180000
SUMMARY:Bibliobús Serra de Bellmunt
LOCATION:Carrer de l'Església, 1 08588 Sora
METHOD:PUBLISH
X-WR-CALNAME:sora@sora.cat
X-WR-TIMEZONE:Europe/Madrid
DESCRIPTION:
📌 El dijous 9 d'abril torna el Bibliobús Serra de Bellmunt al nucli de Sora de les 17h a les 18h de la tarda.

💥 Vine a descobrir novetats, retornar llibres o emportar-te’n de nous!


URI:https://www.sora.cat/actualitat/agenda/1386-bibliobus-serra-de-bellmunt.html
CLASS:PUBLIC
END:VEVENT
END:VCALENDAR
