BEGIN:VCALENDAR
VERSION:2.0
CALSCALE:GREGORIAN
PRODID:-//Diputació de Barcelona//DibaCMS//EN
BEGIN:VEVENT
UID:1370
DTSTAMP:20260422T113429
DTSTART:20260622T000000
DTEND:20260623T000000
SUMMARY:Recollida voluminosos al nucli
LOCATION:
METHOD:PUBLISH
X-WR-CALNAME:sora@sora.cat
X-WR-TIMEZONE:Europe/Madrid
DESCRIPTION:
URI:https://www.sora.cat/actualitat/agenda/1370-recollida-voluminosos-al-nucli.html
CLASS:PUBLIC
END:VEVENT
END:VCALENDAR
