BEGIN:VCALENDAR
VERSION:2.0
CALSCALE:GREGORIAN
PRODID:-//Diputació de Barcelona//DibaCMS//EN
BEGIN:VEVENT
UID:1369
DTSTAMP:20260426T013146
DTSTART:20261026T000000
DTEND:20261027T000000
SUMMARY:Recollida voluminosos al nucli
LOCATION:
METHOD:PUBLISH
X-WR-CALNAME:sora@sora.cat
X-WR-TIMEZONE:Europe/Madrid
DESCRIPTION:
URI:https://www.sora.cat/actualitat/agenda/1369-recollida-voluminosos-al-nucli.html
CLASS:PUBLIC
END:VEVENT
END:VCALENDAR
