BEGIN:VCALENDAR
VERSION:2.0
CALSCALE:GREGORIAN
PRODID:-//Diputació de Barcelona//DibaCMS//EN
BEGIN:VEVENT
UID:1361
DTSTAMP:20260422T101155
DTSTART:20260512T000000
DTEND:20260513T000000
SUMMARY:Recollida voluminosos a Cussons
LOCATION:Barri Cussons 08588 Sora
METHOD:PUBLISH
X-WR-CALNAME:sora@sora.cat
X-WR-TIMEZONE:Europe/Madrid
DESCRIPTION:
URI:https://www.sora.cat/actualitat/agenda/1361-recollida-voluminosos-a-cussons.html
CLASS:PUBLIC
END:VEVENT
END:VCALENDAR
