BEGIN:VCALENDAR
VERSION:2.0
CALSCALE:GREGORIAN
PRODID:-//Diputació de Barcelona//DibaCMS//EN
BEGIN:VEVENT
UID:1259
DTSTAMP:20260424T112718
DTSTART:20250426T183000
DTEND:20250426T220000
SUMMARY:Els secrets del Parc: els amfibis
LOCATION:Aparcament del Parc del Castell de Montesquiu 
METHOD:PUBLISH
X-WR-CALNAME:sora@sora.cat
X-WR-TIMEZONE:Europe/Madrid
DESCRIPTION:On viuen els amfibis del nostre entorn? Què podem fer per observar-los? Farem una sortida per resoldre aquests dubtes, en què aprendrem a identificar-los i coneixerem els llocs idonis on veure'ls dins l'espai natural del Parc. 

Taller a càrrec de Fernando Loras Ortí, herpetòleg.

Inscripció prèvia aquí: Sortida "Els secrets del Parc: els amfibis"

* activitat familiar *

Més informació al correu electrònic p.montesquiu.bisaura@diba.cat  o al telèfon 663 708 210

Organitzen: Parc del Castell de Montesquiu i Consorci del Ter

 

URI:https://www.sora.cat/actualitat/agenda/els-secrets-del-parc-els-amfibis.html
CLASS:PUBLIC
END:VEVENT
END:VCALENDAR
