BEGIN:VCALENDAR
VERSION:2.0
CALSCALE:GREGORIAN
PRODID:-//Diputació de Barcelona//DibaCMS//EN
BEGIN:VEVENT
UID:1257
DTSTAMP:20260420T101719
DTSTART:20250406T084500
DTEND:20250406T133000
SUMMARY:Cims i miradors: Els Munts
LOCATION:Plaça Bisaura (Sant Quirze de Besora) 
METHOD:PUBLISH
X-WR-CALNAME:sora@sora.cat
X-WR-TIMEZONE:Europe/Madrid
DESCRIPTION:Iniciem el recorregut a Solallong i caminem sota l'atenta mirada del Santuari dels Munts, que ens acompanyarà durant tot el recorregut fins arribar-hi. Des de dalt gaudirem d'unes vistes espectaculars del Bisaura i del Pirineu.

Inscripció prèvia aquí: Ruta guiada: "Cims i miradors: Els Munts"

Distància: 10 km          

Desnivell: 450 m

* RUTA GUIADA * totes les rutes guiades tenen una durada d'entre 4 i 5 hores. 

Més informació al correu electrònic p.montesquiu.bisaura@diba.cat  o al telèfon 663 708 210

 

URI:https://www.sora.cat/actualitat/agenda/1257-cims-i-miradors-els-munts.html
CLASS:PUBLIC
END:VEVENT
END:VCALENDAR
