BEGIN:VCALENDAR
VERSION:2.0
CALSCALE:GREGORIAN
PRODID:-//Diputació de Barcelona//DibaCMS//EN
BEGIN:VEVENT
UID:1253
DTSTAMP:20260424T083655
DTSTART:20250620T091000
DTEND:20250620T093000
SUMMARY:Servei caixer mòbil
LOCATION:Carrer de l'Església, 1 08588 Sora
METHOD:PUBLISH
X-WR-CALNAME:sora@sora.cat
X-WR-TIMEZONE:Europe/Madrid
DESCRIPTION:Torna el caixer mòbil a Sora! 

Propera parada 20 de juny, de les 9:10h a les 9:30h a davant l'Ajuntament.

URI:https://www.sora.cat/actualitat/agenda/1253-servei-caixer-mobil.html
CLASS:PUBLIC
END:VEVENT
END:VCALENDAR
