BEGIN:VCALENDAR
VERSION:2.0
CALSCALE:GREGORIAN
PRODID:-//Diputació de Barcelona//DibaCMS//EN
BEGIN:VEVENT
UID:1238
DTSTAMP:20260424T083329
DTSTART:20250708T000000
DTEND:20250709T235900
SUMMARY:Deixalleria mòbil a Cussons
LOCATION:
METHOD:PUBLISH
X-WR-CALNAME:sora@sora.cat
X-WR-TIMEZONE:Europe/Madrid
DESCRIPTION:
URI:https://www.sora.cat/actualitat/agenda/deixalleria-mobil-a-cussons.html
CLASS:PUBLIC
END:VEVENT
END:VCALENDAR
