BEGIN:VCALENDAR
VERSION:2.0
CALSCALE:GREGORIAN
PRODID:-//Diputació de Barcelona//DibaCMS//EN
BEGIN:VEVENT
UID:1237
DTSTAMP:20260424T083542
DTSTART:20250513T000000
DTEND:20250514T235900
SUMMARY:Deixalleria mòbil al Polígon
LOCATION:
METHOD:PUBLISH
X-WR-CALNAME:sora@sora.cat
X-WR-TIMEZONE:Europe/Madrid
DESCRIPTION:
URI:https://www.sora.cat/actualitat/agenda/1237-deixalleria-mobil-al-poligon.html
CLASS:PUBLIC
END:VEVENT
END:VCALENDAR
