BEGIN:VCALENDAR
VERSION:2.0
CALSCALE:GREGORIAN
PRODID:-//Diputació de Barcelona//DibaCMS//EN
BEGIN:VEVENT
UID:1217
DTSTAMP:20260424T132346
DTSTART:20250123T092000
DTEND:20250123T092000
SUMMARY:Servei caixer mòbil
LOCATION:Carrer de l'Església, 1 08588 Sora
METHOD:PUBLISH
X-WR-CALNAME:sora@sora.cat
X-WR-TIMEZONE:Europe/Madrid
DESCRIPTION:Torna el caixer mòbil a Sora! 

Propera parada 23 de gener, de les 9h a les 9:20h a davant l'Ajuntament.

URI:https://www.sora.cat/actualitat/agenda/1217-servei-caixer-mobil.html
CLASS:PUBLIC
END:VEVENT
END:VCALENDAR
