BEGIN:VCALENDAR
VERSION:2.0
CALSCALE:GREGORIAN
PRODID:-//Diputació de Barcelona//DibaCMS//EN
BEGIN:VEVENT
UID:1159
DTSTAMP:20260425T000346
DTSTART:20240629T170000
DTEND:20240629T235900
SUMMARY:Festa Major
LOCATION:Carrer de l'Església, 1 08588 Sora
METHOD:PUBLISH
X-WR-CALNAME:sora@sora.cat
X-WR-TIMEZONE:Europe/Madrid
DESCRIPTION:ZONA ESPORTIVA

📌 A les 17h - Taller de maquillatge i disfresses i jocs en grup a càrrec de La Xarranca.
📌 A les 18h. - Entrega de premis del concurs de cartells de Festa Major.
Durant tota la tarda hi haurà entrepans i servei de bar a càrrec de Can Corominas.

📌 A les 22:30h - Tradicional foguera de Sant Pere amb castell de focs i tabalada a càrrec dels diables Foc i Ganxo.
Hi haurà coca i cava per a tothom.

📌 Seguidament, a la Plaça de Can Corominas - Gran ball de Festa Major a càrrec del grup Millenium.

URI:https://www.sora.cat/actualitat/agenda/1159-festa-major.html
CLASS:PUBLIC
END:VEVENT
END:VCALENDAR
