BEGIN:VCALENDAR
VERSION:2.0
CALSCALE:GREGORIAN
PRODID:-//Diputació de Barcelona//DibaCMS//EN
BEGIN:VEVENT
UID:1121
DTSTAMP:20260425T013904
DTSTART:20240415T145500
DTEND:20240415T153000
SUMMARY:Convocatòria de ple extraordinari municipal i sessió Comissió de Comptes
LOCATION:Carrer de l'Església, 1 08588 Sora
METHOD:PUBLISH
X-WR-CALNAME:sora@sora.cat
X-WR-TIMEZONE:Europe/Madrid
DESCRIPTION:
URI:https://www.sora.cat/actualitat/agenda/convocatoria-de-ple-extraordinari-municipal-i-sessio-comissio-de-comptes.html
CLASS:PUBLIC
END:VEVENT
END:VCALENDAR
