BEGIN:VCALENDAR
VERSION:2.0
CALSCALE:GREGORIAN
PRODID:-//Diputació de Barcelona//DibaCMS//EN
BEGIN:VEVENT
UID:1070
DTSTAMP:20260424T181101
DTSTART:20241113T000000
DTEND:20241113T000000
SUMMARY:Deixalleria mòbil al polígon
LOCATION:
METHOD:PUBLISH
X-WR-CALNAME:sora@sora.cat
X-WR-TIMEZONE:Europe/Madrid
DESCRIPTION:
URI:https://www.sora.cat/actualitat/agenda/1070-deixalleria-mobil-al-poligon.html
CLASS:PUBLIC
END:VEVENT
END:VCALENDAR
