BEGIN:VCALENDAR
VERSION:2.0
CALSCALE:GREGORIAN
PRODID:-//Diputació de Barcelona//DibaCMS//EN
BEGIN:VEVENT
UID:1056
DTSTAMP:20260425T032226
DTSTART:20231229T170000
DTEND:20231229T200000
SUMMARY:Taller de fanalets i rebuda del Patge Reial
LOCATION:Carrer de l'Església, 1 08588 Sora
METHOD:PUBLISH
X-WR-CALNAME:sora@sora.cat
X-WR-TIMEZONE:Europe/Madrid
DESCRIPTION:A les 17h de la tarda - taller de fanalets a càrrec de Cindy Locher i Sara Camprubí

* places limitades * cal apuntar-se abans del 27 de desembre al telèfon 636085530

A les 18.30h - rebuda del Patge Reial, on els infants faran l'entrega de les cartes.

URI:https://www.sora.cat/actualitat/agenda/1056-taller-de-fanalets-i-rebuda-del-patge-reial.html
CLASS:PUBLIC
END:VEVENT
END:VCALENDAR
