BEGIN:VCALENDAR
VERSION:2.0
CALSCALE:GREGORIAN
PRODID:-//Diputació de Barcelona//DibaCMS//EN
BEGIN:VEVENT
UID:1014
DTSTAMP:20260424T175356
DTSTART:20241110T100000
DTEND:20241110T140000
SUMMARY:Descobrim la Farga de Bebiè
LOCATION:Lloc de trobada: pont de la Farga de Bebiè 
METHOD:PUBLISH
X-WR-CALNAME:sora@sora.cat
X-WR-TIMEZONE:Europe/Madrid
DESCRIPTION:Farem una sortida a la Farga de Bebiè amb l'acompanyament de l'ADET i el Museu de la Torneria de Torelló. Coneixerem com funcionava una colònia industrial, com vivien els sseus treballadors i quina és la història i el lligam d'aquesta colònia amb el poble de Montesquiu. 

Cal inscripció prèvia a p.montesquiu.bisaura@diba.cat

Aforament limitat.

Organitzen: ADET, Museu de la Torneria i Parc del Castell de Montesquiu.

URI:https://www.sora.cat/actualitat/agenda/descobrim-la-farga-de-bebie.html
CLASS:PUBLIC
END:VEVENT
END:VCALENDAR
